BEGIN:VCALENDAR
VERSION:2.0
PRODID:-//The Lime Foundation - ECPv6.15.20//NONSGML v1.0//EN
CALSCALE:GREGORIAN
METHOD:PUBLISH
X-WR-CALNAME:The Lime Foundation
X-ORIGINAL-URL:https://thelimefoundation.org
X-WR-CALDESC:Events for The Lime Foundation
REFRESH-INTERVAL;VALUE=DURATION:PT1H
X-Robots-Tag:noindex
X-PUBLISHED-TTL:PT1H
BEGIN:VTIMEZONE
TZID:UTC
BEGIN:STANDARD
TZOFFSETFROM:+0000
TZOFFSETTO:+0000
TZNAME:UTC
DTSTART:20210101T000000
END:STANDARD
END:VTIMEZONE
BEGIN:VEVENT
DTSTART;TZID=UTC:20220908T173000
DTEND;TZID=UTC:20220908T193000
DTSTAMP:20260422T134129
CREATED:20231031T144513Z
LAST-MODIFIED:20240508T125902Z
UID:2025-1662658200-1662665400@thelimefoundation.org
SUMMARY:Believe The Dream 2022
DESCRIPTION:Join us for an amazing night of fun\, performances\, and heartwarming stories on September 8\, 2022\, to celebrate our 7th-annual Believe in the Dream Fundraiser. Mark your calendar or email support@thelimefoundation.org to be put on our notification list. Sponsorships are welcome at the $500-$10\,000 levels.  Visit www.limebelieve.com to learn more!\n		\n													\n			\n									Buy Tickets\n					 \nA HUGE THANK YOU TO THIS YEAR’S SPONSORS!\nDIAMOND LEVEL SPONSOR$10\,000+\n																										 \nRUBY LEVEL SPONSOR\n$5\,000+\n													\n																										 \nSAPPHIRE LEVEL SPONSOR\n$2\,500+\n\n		\n\n		\n	\n	\n		\n							\n					\n\n			\n\n	\n		\n							\n					\n\n			\n\n	\n		\n							\n					\n\n			\n\n	\n		\n							\n					\n\n			\n\n	\n		\n							\n					\n\n			\n\n	\n		\n							\n					\n\n			\n\n	\n		\n							\n					\n\n			\n\n	\n		\n							\n					\n\n			\n\n	\n		\n							\n					\n\n			\n\n	\n		\n							\n					\n\n			\n\n	\n		\n							\n					\n\n			\n\n	\n		\n							\n					\n\n			\n\n	\n		\n							\n					\n\n			\n\n	\n		\n							\n					\n\n			\n\n	\n		\n							\n					\n\n			\n\n	\n		\n							\n					\n\n			\n		\n\nEMERALD LEVEL SPONSOR\n$1000+\n\n		\n\n		\n	\n	\n		\n							\n					\n\n			\n\n	\n		\n							\n					\n\n			\n\n	\n		\n							\n					\n\n			\n\n	\n		\n							\n					\n\n			\n\n	\n		\n							\n					\n\n			\n\n	\n		\n							\n					\n\n			\n\n	\n		\n							\n					\n\n			\n\n	\n		\n							\n					\n\n			\n		\n\nPEARL LEVEL SPONSOR\n$500+\n\n		\n\n		\n	\n	\n		\n							\n					\n\n			\n\n	\n		\n							\n					\n\n			\n\n	\n		\n							\n					\n\n			\n\n	\n		\n							\n					\n\n			\n\n	\n		\n							\n					\n\n			\n\n	\n		\n							\n					\n\n			\n\n	\n		\n							\n					\n\n			\n\n	\n		\n							\n					\n\n			\n\n	\n		\n							\n					\n\n			\n		\n\nMEDIA SPONSORS\n													\n													\n													\n																										 \nWINE DONORS\n\n													\n																										 \nSILENT AUCTION DONORS
URL:https://thelimefoundation.org/event/believe-the-dream-2022/
LOCATION:Luther Burbank Center\, Luther Burbank Center\, CA\, CA 95403\, United States
ATTACH;FMTTYPE=image/jpeg:https://thelimefoundation.org/wp-content/uploads/2023/10/Hollywood-Night.jpg
END:VEVENT
BEGIN:VEVENT
DTSTART;TZID=UTC:20220716T173000
DTEND;TZID=UTC:20220716T193000
DTSTAMP:20260422T134129
CREATED:20231031T142036Z
LAST-MODIFIED:20231031T142036Z
UID:4491-1657992600-1657999800@thelimefoundation.org
SUMMARY:NEXTGEN TRADES ACADEMY GRADUATION
DESCRIPTION:
URL:https://thelimefoundation.org/event/nextgen-trades-academy-graduation-3/
LOCATION:SOMO Village 1400 Valley House Drive 110 Rohnert Park\, California 94928\, SOMO Village 1400 Valley House Drive 110 Rohnert Park\, California 94928\, CA\, 94928\, United States
ATTACH;FMTTYPE=image/png:https://thelimefoundation.org/wp-content/uploads/2023/10/NGTA-Graduation-Collage.png
END:VEVENT
BEGIN:VEVENT
DTSTART;TZID=UTC:20220716T173000
DTEND;TZID=UTC:20220716T193000
DTSTAMP:20260422T134129
CREATED:20231031T142036Z
LAST-MODIFIED:20231031T162222Z
UID:2011-1657992600-1657999800@thelimefoundation.org
SUMMARY:NEXTGEN TRADES ACADEMY GRADUATION
DESCRIPTION:
URL:https://thelimefoundation.org/event/nextgen-trades-academy-graduation/
LOCATION:SOMO Village 1400 Valley House Drive 110 Rohnert Park\, California 94928\, SOMO Village 1400 Valley House Drive 110 Rohnert Park\, California 94928\, CA\, 94928\, United States
ATTACH;FMTTYPE=image/png:https://thelimefoundation.org/wp-content/uploads/2023/10/NGTA-Graduation-Collage.png
END:VEVENT
END:VCALENDAR