BEGIN:VCALENDAR
VERSION:2.0
PRODID:-//The Lime Foundation - ECPv6.15.20//NONSGML v1.0//EN
CALSCALE:GREGORIAN
METHOD:PUBLISH
X-WR-CALNAME:The Lime Foundation
X-ORIGINAL-URL:https://thelimefoundation.org
X-WR-CALDESC:Events for The Lime Foundation
REFRESH-INTERVAL;VALUE=DURATION:PT1H
X-Robots-Tag:noindex
X-PUBLISHED-TTL:PT1H
BEGIN:VTIMEZONE
TZID:UTC
BEGIN:STANDARD
TZOFFSETFROM:+0000
TZOFFSETTO:+0000
TZNAME:UTC
DTSTART:20210101T000000
END:STANDARD
END:VTIMEZONE
BEGIN:VEVENT
DTSTART;TZID=UTC:20240912T180000
DTEND;TZID=UTC:20240912T210000
DTSTAMP:20260422T145410
CREATED:20240412T194701Z
LAST-MODIFIED:20240412T194701Z
UID:4495-1726164000-1726174800@thelimefoundation.org
SUMMARY:Believe In The Dream 2024
DESCRIPTION:Interested in networking with local contractors and\npotential future employees? Join us at our Bring Back\nthe Build forum to discover more about the upcoming\nConstruction Training Center at the Santa Rosa Junior\nCollege\, explore opportunities to become a contractor\nfor Sonoma Clean Power's products\, and connect\nwith graduates from Nextgen Trades Academy\nwho are eager to join your team.				\n				\n				\n				\n					Panel Includes Speakers From\n				\n				\n				\n				\n					Sonoma Clean Power\nSRJC Construction Training Center\nCTE Foundation				\n				\n				\n				\n							\n\n			\n						\n\n									\n						\n							Free Event May 29th\, 20235:30-7:30PM SONOMA CLEAN POWER ADVANCED ENERGY CENTER 741 4th Street Santa Rosa\, CA 95404   						\n					\n				\n				\n			\n			\n		\n						\n				\n				\n				\n									RSVPBringBackTheBuild.com(707) 532-5463www.nextgentradesacademy.orgEmail: support@thelimefoundation.org
URL:https://thelimefoundation.org/event/believe-in-the-dream-2024-2/
LOCATION:Graton Event Center\, Rohnert Park
ATTACH;FMTTYPE=image/jpeg:https://thelimefoundation.org/wp-content/uploads/2024/04/image0.jpeg
END:VEVENT
BEGIN:VEVENT
DTSTART;TZID=UTC:20240727T170000
DTEND;TZID=UTC:20240727T203000
DTSTAMP:20260422T145410
CREATED:20240506T150854Z
LAST-MODIFIED:20240709T042039Z
UID:3304-1722099600-1722112200@thelimefoundation.org
SUMMARY:Career Fair & Graduation Ceremony
DESCRIPTION:Interested in networking with local contractors and\npotential future employees? Join us at our Bring Back\nthe Build forum to discover more about the upcoming\nConstruction Training Center at the Santa Rosa Junior\nCollege\, explore opportunities to become a contractor\nfor Sonoma Clean Power's products\, and connect\nwith graduates from Nextgen Trades Academy\nwho are eager to join your team.				\n				\n				\n				\n					Panel Includes Speakers From\n				\n				\n				\n				\n					Sonoma Clean Power\nSRJC Construction Training Center\nCTE Foundation				\n				\n				\n				\n							\n\n			\n						\n\n									\n						\n							Free Event May 29th\, 20235:30-7:30PM SONOMA CLEAN POWER ADVANCED ENERGY CENTER 741 4th Street Santa Rosa\, CA 95404   						\n					\n				\n				\n			\n			\n		\n						\n				\n				\n				\n									RSVPBringBackTheBuild.com(707) 532-5463www.nextgentradesacademy.orgEmail: support@thelimefoundation.org
URL:https://thelimefoundation.org/event/career-fair-graduation-ceremony/
LOCATION:Sally Tomatoes. 1100 Valley House Drive Rohnert Park
ATTACH;FMTTYPE=image/jpeg:https://thelimefoundation.org/wp-content/uploads/2024/05/unnamed-scaled.jpg
END:VEVENT
BEGIN:VEVENT
DTSTART;TZID=UTC:20240727T170000
DTEND;TZID=UTC:20240727T203000
DTSTAMP:20260422T145410
CREATED:20240506T150854Z
LAST-MODIFIED:20240506T150854Z
UID:4496-1722099600-1722112200@thelimefoundation.org
SUMMARY:Career Fair & Graduation Ceremony
DESCRIPTION:Interested in networking with local contractors and\npotential future employees? Join us at our Bring Back\nthe Build forum to discover more about the upcoming\nConstruction Training Center at the Santa Rosa Junior\nCollege\, explore opportunities to become a contractor\nfor Sonoma Clean Power's products\, and connect\nwith graduates from Nextgen Trades Academy\nwho are eager to join your team.				\n				\n				\n				\n					Panel Includes Speakers From\n				\n				\n				\n				\n					Sonoma Clean Power\nSRJC Construction Training Center\nCTE Foundation				\n				\n				\n				\n							\n\n			\n						\n\n									\n						\n							Free Event May 29th\, 20235:30-7:30PM SONOMA CLEAN POWER ADVANCED ENERGY CENTER 741 4th Street Santa Rosa\, CA 95404   						\n					\n				\n				\n			\n			\n		\n						\n				\n				\n				\n									RSVPBringBackTheBuild.com(707) 532-5463www.nextgentradesacademy.orgEmail: support@thelimefoundation.org
URL:https://thelimefoundation.org/event/career-fair-graduation-ceremony-2/
LOCATION:Sally Tomatoes. 1100 Valley House Drive Rohnert Park
ATTACH;FMTTYPE=image/jpeg:https://thelimefoundation.org/wp-content/uploads/2024/05/unnamed-scaled.jpg
END:VEVENT
BEGIN:VEVENT
DTSTART;TZID=UTC:20230914T170000
DTEND;TZID=UTC:20231031T193000
DTSTAMP:20260422T145410
CREATED:20231030T151629Z
LAST-MODIFIED:20231030T151629Z
UID:4490-1694710800-1698780600@thelimefoundation.org
SUMMARY:Believe The Dream 2023
DESCRIPTION:Interested in networking with local contractors and\npotential future employees? Join us at our Bring Back\nthe Build forum to discover more about the upcoming\nConstruction Training Center at the Santa Rosa Junior\nCollege\, explore opportunities to become a contractor\nfor Sonoma Clean Power's products\, and connect\nwith graduates from Nextgen Trades Academy\nwho are eager to join your team.				\n				\n				\n				\n					Panel Includes Speakers From\n				\n				\n				\n				\n					Sonoma Clean Power\nSRJC Construction Training Center\nCTE Foundation				\n				\n				\n				\n							\n\n			\n						\n\n									\n						\n							Free Event May 29th\, 20235:30-7:30PM SONOMA CLEAN POWER ADVANCED ENERGY CENTER 741 4th Street Santa Rosa\, CA 95404   						\n					\n				\n				\n			\n			\n		\n						\n				\n				\n				\n									RSVPBringBackTheBuild.com(707) 532-5463www.nextgentradesacademy.orgEmail: support@thelimefoundation.org
URL:https://thelimefoundation.org/event/believe-the-dream-2023-2/
LOCATION:Luther Burbank Center\, Luther Burbank Center\, CA\, CA 95403\, United States
ATTACH;FMTTYPE=image/jpeg:https://thelimefoundation.org/wp-content/uploads/2023/10/BITD-banner-1.jpg
END:VEVENT
BEGIN:VEVENT
DTSTART;TZID=UTC:20230914T170000
DTEND;TZID=UTC:20231031T193000
DTSTAMP:20260422T145410
CREATED:20231030T151629Z
LAST-MODIFIED:20240508T125811Z
UID:1909-1694710800-1698780600@thelimefoundation.org
SUMMARY:Believe The Dream 2023
DESCRIPTION:Interested in networking with local contractors and\npotential future employees? Join us at our Bring Back\nthe Build forum to discover more about the upcoming\nConstruction Training Center at the Santa Rosa Junior\nCollege\, explore opportunities to become a contractor\nfor Sonoma Clean Power's products\, and connect\nwith graduates from Nextgen Trades Academy\nwho are eager to join your team.				\n				\n				\n				\n					Panel Includes Speakers From\n				\n				\n				\n				\n					Sonoma Clean Power\nSRJC Construction Training Center\nCTE Foundation				\n				\n				\n				\n							\n\n			\n						\n\n									\n						\n							Free Event May 29th\, 20235:30-7:30PM SONOMA CLEAN POWER ADVANCED ENERGY CENTER 741 4th Street Santa Rosa\, CA 95404   						\n					\n				\n				\n			\n			\n		\n						\n				\n				\n				\n									RSVPBringBackTheBuild.com(707) 532-5463www.nextgentradesacademy.orgEmail: support@thelimefoundation.org
URL:https://thelimefoundation.org/event/believe-the-dream-2023/
LOCATION:Luther Burbank Center\, Luther Burbank Center\, CA\, CA 95403\, United States
ATTACH;FMTTYPE=image/jpeg:https://thelimefoundation.org/wp-content/uploads/2023/10/BITD-banner-1.jpg
END:VEVENT
BEGIN:VEVENT
DTSTART;TZID=UTC:20230529T173000
DTEND;TZID=UTC:20230529T193000
DTSTAMP:20260422T145410
CREATED:20240508T130039Z
LAST-MODIFIED:20240508T130039Z
UID:4497-1685381400-1685388600@thelimefoundation.org
SUMMARY:Bring Back The Build May2023
DESCRIPTION:Interested in networking with local contractors and\npotential future employees? Join us at our Bring Back\nthe Build forum to discover more about the upcoming\nConstruction Training Center at the Santa Rosa Junior\nCollege\, explore opportunities to become a contractor\nfor Sonoma Clean Power's products\, and connect\nwith graduates from Nextgen Trades Academy\nwho are eager to join your team.				\n				\n				\n				\n					Panel Includes Speakers From\n				\n				\n				\n				\n					Sonoma Clean Power\nSRJC Construction Training Center\nCTE Foundation				\n				\n				\n				\n							\n\n			\n						\n\n									\n						\n							Free Event May 29th\, 20235:30-7:30PM SONOMA CLEAN POWER ADVANCED ENERGY CENTER 741 4th Street Santa Rosa\, CA 95404   						\n					\n				\n				\n			\n			\n		\n						\n				\n				\n				\n									RSVPBringBackTheBuild.com(707) 532-5463www.nextgentradesacademy.orgEmail: support@thelimefoundation.org
URL:https://thelimefoundation.org/event/bring-back-the-build-may2023-2/
LOCATION:SONOMA CLEAN POWER ADVANCED ENERGY CENTER\, 741 4th Street Santa Rosa\, CA 95404\, Santa Rosa\, 95404\, United States
ATTACH;FMTTYPE=image/webp:https://thelimefoundation.org/wp-content/uploads/2023/10/bring-back-the-build.webp
END:VEVENT
BEGIN:VEVENT
DTSTART;TZID=UTC:20230529T173000
DTEND;TZID=UTC:20230529T193000
DTSTAMP:20260422T145410
CREATED:20240508T130039Z
LAST-MODIFIED:20240508T130558Z
UID:3362-1685381400-1685388600@thelimefoundation.org
SUMMARY:Bring Back The Build May2023
DESCRIPTION:Interested in networking with local contractors and\npotential future employees? Join us at our Bring Back\nthe Build forum to discover more about the upcoming\nConstruction Training Center at the Santa Rosa Junior\nCollege\, explore opportunities to become a contractor\nfor Sonoma Clean Power's products\, and connect\nwith graduates from Nextgen Trades Academy\nwho are eager to join your team.				\n				\n				\n				\n					Panel Includes Speakers From\n				\n				\n				\n				\n					Sonoma Clean Power\nSRJC Construction Training Center\nCTE Foundation				\n				\n				\n				\n							\n\n			\n						\n\n									\n						\n							Free Event May 29th\, 20235:30-7:30PM SONOMA CLEAN POWER ADVANCED ENERGY CENTER 741 4th Street Santa Rosa\, CA 95404   						\n					\n				\n				\n			\n			\n		\n						\n				\n				\n				\n									RSVPBringBackTheBuild.com(707) 532-5463www.nextgentradesacademy.orgEmail: support@thelimefoundation.org
URL:https://thelimefoundation.org/event/bring-back-the-build-may2023/
LOCATION:SONOMA CLEAN POWER ADVANCED ENERGY CENTER\, 741 4th Street Santa Rosa\, CA 95404\, Santa Rosa\, 95404\, United States
ATTACH;FMTTYPE=image/webp:https://thelimefoundation.org/wp-content/uploads/2023/10/bring-back-the-build.webp
END:VEVENT
BEGIN:VEVENT
DTSTART;TZID=UTC:20230413T173000
DTEND;TZID=UTC:20230413T193000
DTSTAMP:20260422T145410
CREATED:20231031T143506Z
LAST-MODIFIED:20231031T143506Z
UID:4494-1681407000-1681414200@thelimefoundation.org
SUMMARY:Bring Back The Build
DESCRIPTION:Interested in networking with local contractors and\npotential future employees? Join us at our Bring Back\nthe Build forum to discover more about the upcoming\nConstruction Training Center at the Santa Rosa Junior\nCollege\, explore opportunities to become a contractor\nfor Sonoma Clean Power's products\, and connect\nwith graduates from Nextgen Trades Academy\nwho are eager to join your team.				\n				\n				\n				\n					Panel Includes Speakers From\n				\n				\n				\n				\n					Sonoma Clean Power\nSRJC Construction Training Center\nCTE Foundation				\n				\n				\n				\n							\n\n			\n						\n\n									\n						\n							Free Event May 29th\, 20235:30-7:30PM SONOMA CLEAN POWER ADVANCED ENERGY CENTER 741 4th Street Santa Rosa\, CA 95404   						\n					\n				\n				\n			\n			\n		\n						\n				\n				\n				\n									RSVPBringBackTheBuild.com(707) 532-5463www.nextgentradesacademy.orgEmail: support@thelimefoundation.org
URL:https://thelimefoundation.org/event/bring-back-the-build-2/
LOCATION:SONOMA CLEAN POWER ADVANCED ENERGY CENTER\, 741 4th Street Santa Rosa\, CA 95404\, Santa Rosa\, 95404\, United States
ATTACH;FMTTYPE=image/png:https://thelimefoundation.org/wp-content/uploads/2023/10/1.png
END:VEVENT
BEGIN:VEVENT
DTSTART;TZID=UTC:20230413T173000
DTEND;TZID=UTC:20230413T193000
DTSTAMP:20260422T145410
CREATED:20231031T143506Z
LAST-MODIFIED:20240508T125553Z
UID:2029-1681407000-1681414200@thelimefoundation.org
SUMMARY:Bring Back The Build
DESCRIPTION:Interested in networking with local contractors and\npotential future employees? Join us at our Bring Back\nthe Build forum to discover more about the upcoming\nConstruction Training Center at the Santa Rosa Junior\nCollege\, explore opportunities to become a contractor\nfor Sonoma Clean Power's products\, and connect\nwith graduates from Nextgen Trades Academy\nwho are eager to join your team.				\n				\n				\n				\n					Panel Includes Speakers From\n				\n				\n				\n				\n					Sonoma Clean Power\nSRJC Construction Training Center\nCTE Foundation				\n				\n				\n				\n							\n\n			\n						\n\n									\n						\n							Free Event May 29th\, 20235:30-7:30PM SONOMA CLEAN POWER ADVANCED ENERGY CENTER 741 4th Street Santa Rosa\, CA 95404   						\n					\n				\n				\n			\n			\n		\n						\n				\n				\n				\n									RSVPBringBackTheBuild.com(707) 532-5463www.nextgentradesacademy.orgEmail: support@thelimefoundation.org
URL:https://thelimefoundation.org/event/bring-back-the-build/
LOCATION:SONOMA CLEAN POWER ADVANCED ENERGY CENTER\, 741 4th Street Santa Rosa\, CA 95404\, Santa Rosa\, 95404\, United States
ATTACH;FMTTYPE=image/png:https://thelimefoundation.org/wp-content/uploads/2023/10/1.png
END:VEVENT
BEGIN:VEVENT
DTSTART;TZID=UTC:20230325T180000
DTEND;TZID=UTC:20230325T213000
DTSTAMP:20260422T145410
CREATED:20231031T160340Z
LAST-MODIFIED:20231031T160340Z
UID:4493-1679767200-1679779800@thelimefoundation.org
SUMMARY:So You Think Sonoma County’s Got Talent With The Stars
DESCRIPTION:Interested in networking with local contractors and\npotential future employees? Join us at our Bring Back\nthe Build forum to discover more about the upcoming\nConstruction Training Center at the Santa Rosa Junior\nCollege\, explore opportunities to become a contractor\nfor Sonoma Clean Power's products\, and connect\nwith graduates from Nextgen Trades Academy\nwho are eager to join your team.				\n				\n				\n				\n					Panel Includes Speakers From\n				\n				\n				\n				\n					Sonoma Clean Power\nSRJC Construction Training Center\nCTE Foundation				\n				\n				\n				\n							\n\n			\n						\n\n									\n						\n							Free Event May 29th\, 20235:30-7:30PM SONOMA CLEAN POWER ADVANCED ENERGY CENTER 741 4th Street Santa Rosa\, CA 95404   						\n					\n				\n				\n			\n			\n		\n						\n				\n				\n				\n									RSVPBringBackTheBuild.com(707) 532-5463www.nextgentradesacademy.orgEmail: support@thelimefoundation.org
URL:https://thelimefoundation.org/event/so-you-think-sonoma-countys-got-talent-with-the-stars-2/
LOCATION:Shady Oak Barrel House\, 420 1st Street Santa Rosa\, CA 95401 United States\, United States
ATTACH;FMTTYPE=image/jpeg:https://thelimefoundation.org/wp-content/uploads/2023/10/Final-Sonoma-Countys-Got-Talent.jpg
END:VEVENT
BEGIN:VEVENT
DTSTART;TZID=UTC:20230325T180000
DTEND;TZID=UTC:20230325T213000
DTSTAMP:20260422T145410
CREATED:20231031T160340Z
LAST-MODIFIED:20240508T125941Z
UID:2027-1679767200-1679779800@thelimefoundation.org
SUMMARY:So You Think Sonoma County’s Got Talent With The Stars
DESCRIPTION:Interested in networking with local contractors and\npotential future employees? Join us at our Bring Back\nthe Build forum to discover more about the upcoming\nConstruction Training Center at the Santa Rosa Junior\nCollege\, explore opportunities to become a contractor\nfor Sonoma Clean Power's products\, and connect\nwith graduates from Nextgen Trades Academy\nwho are eager to join your team.				\n				\n				\n				\n					Panel Includes Speakers From\n				\n				\n				\n				\n					Sonoma Clean Power\nSRJC Construction Training Center\nCTE Foundation				\n				\n				\n				\n							\n\n			\n						\n\n									\n						\n							Free Event May 29th\, 20235:30-7:30PM SONOMA CLEAN POWER ADVANCED ENERGY CENTER 741 4th Street Santa Rosa\, CA 95404   						\n					\n				\n				\n			\n			\n		\n						\n				\n				\n				\n									RSVPBringBackTheBuild.com(707) 532-5463www.nextgentradesacademy.orgEmail: support@thelimefoundation.org
URL:https://thelimefoundation.org/event/so-you-think-sonoma-countys-got-talent-with-the-stars/
LOCATION:Shady Oak Barrel House\, 420 1st Street Santa Rosa\, CA 95401 United States\, United States
ATTACH;FMTTYPE=image/jpeg:https://thelimefoundation.org/wp-content/uploads/2023/10/Final-Sonoma-Countys-Got-Talent.jpg
END:VEVENT
BEGIN:VEVENT
DTSTART;TZID=UTC:20220908T173000
DTEND;TZID=UTC:20220908T193000
DTSTAMP:20260422T145410
CREATED:20231031T144513Z
LAST-MODIFIED:20231031T144513Z
UID:4492-1662658200-1662665400@thelimefoundation.org
SUMMARY:Believe The Dream 2022
DESCRIPTION:Interested in networking with local contractors and\npotential future employees? Join us at our Bring Back\nthe Build forum to discover more about the upcoming\nConstruction Training Center at the Santa Rosa Junior\nCollege\, explore opportunities to become a contractor\nfor Sonoma Clean Power's products\, and connect\nwith graduates from Nextgen Trades Academy\nwho are eager to join your team.				\n				\n				\n				\n					Panel Includes Speakers From\n				\n				\n				\n				\n					Sonoma Clean Power\nSRJC Construction Training Center\nCTE Foundation				\n				\n				\n				\n							\n\n			\n						\n\n									\n						\n							Free Event May 29th\, 20235:30-7:30PM SONOMA CLEAN POWER ADVANCED ENERGY CENTER 741 4th Street Santa Rosa\, CA 95404   						\n					\n				\n				\n			\n			\n		\n						\n				\n				\n				\n									RSVPBringBackTheBuild.com(707) 532-5463www.nextgentradesacademy.orgEmail: support@thelimefoundation.org
URL:https://thelimefoundation.org/event/believe-the-dream-2022-2/
LOCATION:Luther Burbank Center\, Luther Burbank Center\, CA\, CA 95403\, United States
ATTACH;FMTTYPE=image/jpeg:https://thelimefoundation.org/wp-content/uploads/2023/10/Hollywood-Night.jpg
END:VEVENT
BEGIN:VEVENT
DTSTART;TZID=UTC:20220908T173000
DTEND;TZID=UTC:20220908T193000
DTSTAMP:20260422T145410
CREATED:20231031T144513Z
LAST-MODIFIED:20240508T125902Z
UID:2025-1662658200-1662665400@thelimefoundation.org
SUMMARY:Believe The Dream 2022
DESCRIPTION:Interested in networking with local contractors and\npotential future employees? Join us at our Bring Back\nthe Build forum to discover more about the upcoming\nConstruction Training Center at the Santa Rosa Junior\nCollege\, explore opportunities to become a contractor\nfor Sonoma Clean Power's products\, and connect\nwith graduates from Nextgen Trades Academy\nwho are eager to join your team.				\n				\n				\n				\n					Panel Includes Speakers From\n				\n				\n				\n				\n					Sonoma Clean Power\nSRJC Construction Training Center\nCTE Foundation				\n				\n				\n				\n							\n\n			\n						\n\n									\n						\n							Free Event May 29th\, 20235:30-7:30PM SONOMA CLEAN POWER ADVANCED ENERGY CENTER 741 4th Street Santa Rosa\, CA 95404   						\n					\n				\n				\n			\n			\n		\n						\n				\n				\n				\n									RSVPBringBackTheBuild.com(707) 532-5463www.nextgentradesacademy.orgEmail: support@thelimefoundation.org
URL:https://thelimefoundation.org/event/believe-the-dream-2022/
LOCATION:Luther Burbank Center\, Luther Burbank Center\, CA\, CA 95403\, United States
ATTACH;FMTTYPE=image/jpeg:https://thelimefoundation.org/wp-content/uploads/2023/10/Hollywood-Night.jpg
END:VEVENT
BEGIN:VEVENT
DTSTART;TZID=UTC:20220716T173000
DTEND;TZID=UTC:20220716T193000
DTSTAMP:20260422T145410
CREATED:20231031T142036Z
LAST-MODIFIED:20231031T142036Z
UID:4491-1657992600-1657999800@thelimefoundation.org
SUMMARY:NEXTGEN TRADES ACADEMY GRADUATION
DESCRIPTION:Interested in networking with local contractors and\npotential future employees? Join us at our Bring Back\nthe Build forum to discover more about the upcoming\nConstruction Training Center at the Santa Rosa Junior\nCollege\, explore opportunities to become a contractor\nfor Sonoma Clean Power's products\, and connect\nwith graduates from Nextgen Trades Academy\nwho are eager to join your team.				\n				\n				\n				\n					Panel Includes Speakers From\n				\n				\n				\n				\n					Sonoma Clean Power\nSRJC Construction Training Center\nCTE Foundation				\n				\n				\n				\n							\n\n			\n						\n\n									\n						\n							Free Event May 29th\, 20235:30-7:30PM SONOMA CLEAN POWER ADVANCED ENERGY CENTER 741 4th Street Santa Rosa\, CA 95404   						\n					\n				\n				\n			\n			\n		\n						\n				\n				\n				\n									RSVPBringBackTheBuild.com(707) 532-5463www.nextgentradesacademy.orgEmail: support@thelimefoundation.org
URL:https://thelimefoundation.org/event/nextgen-trades-academy-graduation-3/
LOCATION:SOMO Village 1400 Valley House Drive 110 Rohnert Park\, California 94928\, SOMO Village 1400 Valley House Drive 110 Rohnert Park\, California 94928\, CA\, 94928\, United States
ATTACH;FMTTYPE=image/png:https://thelimefoundation.org/wp-content/uploads/2023/10/NGTA-Graduation-Collage.png
END:VEVENT
BEGIN:VEVENT
DTSTART;TZID=UTC:20220716T173000
DTEND;TZID=UTC:20220716T193000
DTSTAMP:20260422T145410
CREATED:20231031T142036Z
LAST-MODIFIED:20231031T162222Z
UID:2011-1657992600-1657999800@thelimefoundation.org
SUMMARY:NEXTGEN TRADES ACADEMY GRADUATION
DESCRIPTION:Interested in networking with local contractors and\npotential future employees? Join us at our Bring Back\nthe Build forum to discover more about the upcoming\nConstruction Training Center at the Santa Rosa Junior\nCollege\, explore opportunities to become a contractor\nfor Sonoma Clean Power's products\, and connect\nwith graduates from Nextgen Trades Academy\nwho are eager to join your team.				\n				\n				\n				\n					Panel Includes Speakers From\n				\n				\n				\n				\n					Sonoma Clean Power\nSRJC Construction Training Center\nCTE Foundation				\n				\n				\n				\n							\n\n			\n						\n\n									\n						\n							Free Event May 29th\, 20235:30-7:30PM SONOMA CLEAN POWER ADVANCED ENERGY CENTER 741 4th Street Santa Rosa\, CA 95404   						\n					\n				\n				\n			\n			\n		\n						\n				\n				\n				\n									RSVPBringBackTheBuild.com(707) 532-5463www.nextgentradesacademy.orgEmail: support@thelimefoundation.org
URL:https://thelimefoundation.org/event/nextgen-trades-academy-graduation/
LOCATION:SOMO Village 1400 Valley House Drive 110 Rohnert Park\, California 94928\, SOMO Village 1400 Valley House Drive 110 Rohnert Park\, California 94928\, CA\, 94928\, United States
ATTACH;FMTTYPE=image/png:https://thelimefoundation.org/wp-content/uploads/2023/10/NGTA-Graduation-Collage.png
END:VEVENT
END:VCALENDAR