BEGIN:VCALENDAR
VERSION:2.0
PRODID:-//The Lime Foundation - ECPv6.15.20//NONSGML v1.0//EN
CALSCALE:GREGORIAN
METHOD:PUBLISH
X-WR-CALNAME:The Lime Foundation
X-ORIGINAL-URL:https://thelimefoundation.org
X-WR-CALDESC:Events for The Lime Foundation
REFRESH-INTERVAL;VALUE=DURATION:PT1H
X-Robots-Tag:noindex
X-PUBLISHED-TTL:PT1H
BEGIN:VTIMEZONE
TZID:UTC
BEGIN:STANDARD
TZOFFSETFROM:+0000
TZOFFSETTO:+0000
TZNAME:UTC
DTSTART:20240101T000000
END:STANDARD
END:VTIMEZONE
BEGIN:VEVENT
DTSTART;VALUE=DATE:20250911
DTEND;VALUE=DATE:20250912
DTSTAMP:20260424T031258
CREATED:20250116T010715Z
LAST-MODIFIED:20250411T075100Z
UID:4018-1757548800-1757635199@thelimefoundation.org
SUMMARY:Believe in the Dream-Legacy Gala 2025
DESCRIPTION:Ladies and gentlemen\, the event of the decade is here! Join us for the 10th Annual Believe in the Dream Legacy Gala on September 11\, 2025\, from 6 PM to 9 PM at the Luther Burbank Center for the Arts in Santa Rosa\, California.Buy tickets now or secure sponsorship at www.believelime.com! This is a momentous occasion—we’re celebrating 10 years of impact\, transformation\, and growth. It’s a time to honor the legacy we’ve built and the future we continue to shape. The evening will celebrate the incredible accomplishments of our NextGen Graduates\, who represent the bright future ahead\, and we’ll honor our Shining Star Award recipient. But that’s just the beginning! We’ve got a celebrity guest joining us to inspire and raise funds for our programs. The night will be filled with incredible performances and a legendary afterparty you won’t want to miss. Want to keep the celebration going? Indulge in a luxurious one-night stay at Vintners Resort and join us for an exclusive VIP breakfast the next morning. It’s the perfect way to continue building connections and celebrating change. Explore all the sponsorship opportunities at www.believelime.com and be part of this historic milestone. This isn’t just an event. It’s a celebration of legacy\, and YOU are invited to be part of it! Don’t miss your chance to be a part of something truly unforgettable.
URL:https://thelimefoundation.org/event/believe-in-the-dream-legacy-gala-2025/
END:VEVENT
END:VCALENDAR